BEGIN:VCALENDAR
VERSION:2.0
PRODID:-//Comarca del Matarraña - ECPv6.3.2//NONSGML v1.0//EN
CALSCALE:GREGORIAN
METHOD:PUBLISH
X-WR-CALNAME:Comarca del Matarraña
X-ORIGINAL-URL:https://matarranyaturismo.es
X-WR-CALDESC:Eventos para Comarca del Matarraña
REFRESH-INTERVAL;VALUE=DURATION:PT1H
X-Robots-Tag:noindex
X-PUBLISHED-TTL:PT1H
BEGIN:VTIMEZONE
TZID:Europe/Madrid
BEGIN:DAYLIGHT
TZOFFSETFROM:+0100
TZOFFSETTO:+0200
TZNAME:CEST
DTSTART:20260329T010000
END:DAYLIGHT
BEGIN:STANDARD
TZOFFSETFROM:+0200
TZOFFSETTO:+0100
TZNAME:CET
DTSTART:20261025T010000
END:STANDARD
END:VTIMEZONE
BEGIN:VEVENT
DTSTART;TZID=Europe/Madrid:20260502T093000
DTEND;TZID=Europe/Madrid:20260503T203000
DTSTAMP:20260425T145523
CREATED:20260420T121853Z
LAST-MODIFIED:20260420T121853Z
UID:10005628-1777714200-1777840200@matarranyaturismo.es
SUMMARY:FERIA GANADERA Y COMERCIAL en Valderrobres
DESCRIPTION:Los días 2 y 3 de mayo\, Feria ganadera y comercial en Valderrobres \nProgramación: \n02 de mayo \n\nEncierro de bueyes con caballos de la Ganadería Javier Tárrega (El Gallo) de Moncofar.\nDe 08:30 h a 10:00 h. Recepción de caballos en la explanada del Campo de Fútbol.\n10:00 h. Salida de los caballos para recoger a los bueyes.\n11:00 h. Salida de caballos y bueyes desde el centro de inseminación de INCO hasta el recinto ferial.\n13:00 h. Llegada prevista al Recinto ferial.\n\n\n\nDe 12.00h a 14.00 h\, en el Pabellón Municipal.\nDemostración del oficio artesanal de la lana.\nA partir de las 12.30 h: Taller de fieltro\nA cargo de la agrupación OBELLAS\, lana en movimiento.\n\n\n Zona Gaming. \n\n10:00h a 14:00h y de 16:00h a 22:00h. En el pabellón Municipal. Puestos de videojuegos con\, PlayStation5\, Nintendo Switch y puestos de Realidad Virtual y simulador de conducción.\nTorneo amateur Mario Kart 8 Deluxe (32 plazas\, inicio 11h). Inscripciones 1h antes.\nTorneo amateur EA Sports FC 26 (32 plazas\, inicio 17:00h). Inscripciones 1h antes.\n\n\n\nDemostración de esquileo tradicional de ovejas.\n18:00h. En la carpa ganadera a cargo de David Dilla Albesa de Peñarroya de Tastavins.\n\n\nDisco Vaca\, 23:30h\, en la plaza de toros de Valderrobres. Organiza: Peña Taurina Valderrobres. \n\n03 de mayo \n\nZona Gaming. 10:00h a 14:00h y de 16:00h a 22:00h. En el pabellón Municipal. Puestos de videojuegos con\, PlayStation5\, Nintendo Switch y puestos de Realidad Virtual y simulador de conducción.\nTorneo amateur Mario Kart 8 Deluxe (32 plazas\, inicio 11h). Inscripciones 1h antes.\nTorneo amateur EA Sports FC 26 (32 plazas\, inicio 17:00h). Inscripciones 1h antes.\n\n\n\nVI Concurso de perros de ganada “feria de Valderrobres·.\n10.30h\, en el campo de actividades ganaderas.\n13:30 h. Entrega de premios y Obsequios. En el pabellón municipal:\nEntrega de obsequios a todos los ganaderos participantes en la exposición de animales\, y sorteo de los lotes de ganado ovino.\nEntrega de premios:\nXI Concurso Feria de Valderrobres\, Premio a la ganadería mejor presentada.\nPremio especial “Pastores del Matarraña”\nVI Concurso de perros de ganado Feria de Valderrobres.\n\n\nDurante todo el fin de semana. \n\nPabellón Municipal: Expositores comerciales y de alimentación\, zona de actividades y barra de bar.\nRecinto ganadero: carpa de exposición de animales.\nMercado de Comercio: Tradicional mercadillo por las calles de Valderrobres (Plaza de España\, Lonja del Ayuntamiento\, Puente Piedra\, Avda. Hispanidad\, C/ Lope de Vega hasta el Pabellón Municipal).\nAtracciones de Feria en el aparcamiento de la Calle Lope de Vega.\n\n\n\nNotas: La organización de la Feria se reserva el derecho de modificar o anular alguna de las actividades previstas por motivos técnicos o de fuerza mayor.\nOrganiza: Ayuntamiento de Valderrobres.
URL:https://matarranyaturismo.es/evento/feria-ganadera-y-comercial-en-valderrobres/
LOCATION:Municipio de Valderrobres\, Valderrobres\, Teruel\, 44580\, España
END:VEVENT
END:VCALENDAR