BEGIN:VCALENDAR
VERSION:2.0
PRODID:-//Comarca del Matarraña - ECPv6.3.2//NONSGML v1.0//EN
CALSCALE:GREGORIAN
METHOD:PUBLISH
X-WR-CALNAME:Comarca del Matarraña
X-ORIGINAL-URL:https://matarranyaturismo.es
X-WR-CALDESC:Eventos para Comarca del Matarraña
REFRESH-INTERVAL;VALUE=DURATION:PT1H
X-Robots-Tag:noindex
X-PUBLISHED-TTL:PT1H
BEGIN:VTIMEZONE
TZID:Europe/Madrid
BEGIN:DAYLIGHT
TZOFFSETFROM:+0100
TZOFFSETTO:+0200
TZNAME:CEST
DTSTART:20260329T010000
END:DAYLIGHT
BEGIN:STANDARD
TZOFFSETFROM:+0200
TZOFFSETTO:+0100
TZNAME:CET
DTSTART:20261025T010000
END:STANDARD
END:VTIMEZONE
BEGIN:VEVENT
DTSTART;TZID=Europe/Madrid:20260425T080000
DTEND;TZID=Europe/Madrid:20260425T170000
DTSTAMP:20260425T145523
CREATED:20260414T125720Z
LAST-MODIFIED:20260414T125720Z
UID:10005617-1777104000-1777136400@matarranyaturismo.es
SUMMARY:Taller de cocina en Mazaleón
DESCRIPTION:25 de abril en Mazaleón  \n\n18:00h. Taller de cocina\, a cargo de José Balaguer.\nDonación no socias: 5€.\nInscripciones hasta el 19 de abril\, avisando a cualquier miembro de la junta.\nOrganiza: Asociación de mujeres Sadurixa.
URL:https://matarranyaturismo.es/evento/taller-de-cocina-en-mazaleon/
LOCATION:Municipio de Mazaleón
END:VEVENT
BEGIN:VEVENT
DTSTART;TZID=Europe/Madrid:20260425T113000
DTEND;TZID=Europe/Madrid:20260425T170000
DTSTAMP:20260425T145523
CREATED:20260416T073906Z
LAST-MODIFIED:20260416T073906Z
UID:10005620-1777116600-1777136400@matarranyaturismo.es
SUMMARY:San Jordi - San Jorge en Mazaleón
DESCRIPTION:25 de abril en Mazaleón San Jordi – San Jorge \n\nA partir de las 11:30h en la plaza.\nPresentación del libro » Inefable. Nacido de un sueño» de Aleix Rovirosa. \nJazz & live Sax / 44594 Jazz & Ian Ferrando)\nTapas\nRosas y libros ( papelería de Mazaleón)\nPuntos de libros\, marcapáginas ( AFA Mazaleón).\nOrganiza: Club de la Joventud de Mazaleón 
URL:https://matarranyaturismo.es/evento/san-jordi-san-jorge-en-mazaleon/
LOCATION:Municipio de Mazaleón
END:VEVENT
BEGIN:VEVENT
DTSTART;TZID=Europe/Madrid:20260425T170000
DTEND;TZID=Europe/Madrid:20260425T200000
DTSTAMP:20260425T145523
CREATED:20260420T123939Z
LAST-MODIFIED:20260420T123939Z
UID:10005629-1777136400-1777147200@matarranyaturismo.es
SUMMARY:XIV Quedaran les paraules en Fórnoles
DESCRIPTION:25 de abril en Fórnoles \n\nXIV Quedaran les parauales\, en la lonja del Ayuntamiento.\n17:00h. Lectura colectiva del libro » La vida de Pedro Saputo» de Braulio Foz.\nA continuación\, actuación de música a cargo del Duo López & Marino.\n\n\n\nApúntate a leer\, para más información e inscripciones en: 978 89 08 81 o patrimonio@matarranya.org\nOrganiza: Comarca del Matarraña. Colabora: Ayuntamiento de Fórnoles.
URL:https://matarranyaturismo.es/evento/xiv-quedaran-les-paraules-en-fornoles/
LOCATION:Municipio de Fórnoles\, Fórnoles\, Teruel\, 44650\, España
END:VEVENT
BEGIN:VEVENT
DTSTART;TZID=Europe/Madrid:20260425T190000
DTEND;TZID=Europe/Madrid:20260425T210000
DTSTAMP:20260425T145523
CREATED:20260409T112356Z
LAST-MODIFIED:20260409T112356Z
UID:10005608-1777143600-1777150800@matarranyaturismo.es
SUMMARY:Presentación del libro y vino en De Bat a Bat en Calaceite
DESCRIPTION:Presentación del libro y vino en De Bat a Bat en Calaceite \n25 de abril en De Bat a Bat en Calaceite \n\n19:00h. Presentación del libro “Sabors. Cuina de les Terres de l´Ebrde de Emigdi Subirats.\nPresentación del vino “Samuel” (garnacha negra 100%) de Sifer Wines ( Calaceite).
URL:https://matarranyaturismo.es/evento/presentacion-del-libro-y-vino-en-de-bat-a-bat-en-calaceite/
LOCATION:De bat a bat llibres de Calaceite
END:VEVENT
END:VCALENDAR